BEGIN:VCALENDAR
VERSION:2.0
PRODID:-//P4 - Language Consortium - ECPv6.15.20//NONSGML v1.0//EN
CALSCALE:GREGORIAN
METHOD:PUBLISH
X-ORIGINAL-URL:https://p4.org
X-WR-CALDESC:Events for P4 - Language Consortium
REFRESH-INTERVAL;VALUE=DURATION:PT1H
X-Robots-Tag:noindex
X-PUBLISHED-TTL:PT1H
BEGIN:VTIMEZONE
TZID:UTC
BEGIN:STANDARD
TZOFFSETFROM:+0000
TZOFFSETTO:+0000
TZNAME:UTC
DTSTART:20190101T000000
END:STANDARD
END:VTIMEZONE
BEGIN:VEVENT
DTSTART;TZID=UTC:20200912T080000
DTEND;TZID=UTC:20200912T170000
DTSTAMP:20260425T024109
CREATED:20250912T222203Z
LAST-MODIFIED:20250930T162210Z
UID:10000145-1599897600-1599930000@p4.org
SUMMARY:3rd P4 Workshop in Europe (EuroP4) 2020
DESCRIPTION:EuroP4 2020 is the third P4 Language Consortium event in Europe. It aims to bring together P4 and P4->NetFPGA researchers from Europe and from around the world\, and to foster the growth of the P4 Community.
URL:https://p4.org/event/3rd-p4-workshop-in-europe-europ4-2020/
CATEGORIES:Events,Export
END:VEVENT
END:VCALENDAR