BEGIN:VCALENDAR
VERSION:2.0
PRODID:-//P4 - Language Consortium - ECPv6.15.20//NONSGML v1.0//EN
CALSCALE:GREGORIAN
METHOD:PUBLISH
X-WR-CALNAME:P4 - Language Consortium
X-ORIGINAL-URL:https://p4.org
X-WR-CALDESC:Events for P4 - Language Consortium
REFRESH-INTERVAL;VALUE=DURATION:PT1H
X-Robots-Tag:noindex
X-PUBLISHED-TTL:PT1H
BEGIN:VTIMEZONE
TZID:UTC
BEGIN:STANDARD
TZOFFSETFROM:+0000
TZOFFSETTO:+0000
TZNAME:UTC
DTSTART:20210101T000000
END:STANDARD
END:VTIMEZONE
BEGIN:VEVENT
DTSTART;TZID=UTC:20220826T080000
DTEND;TZID=UTC:20220826T080000
DTSTAMP:20260423T173311
CREATED:20250912T220204Z
LAST-MODIFIED:20250915T230826Z
UID:10000107-1661500800-1661500800@p4.org
SUMMARY:ACM SIGCOMM 2022
DESCRIPTION:Hackathon: P4 on Raspberry PI for Networking Education\nAugust 26th | 1:30pm – 6:00pm\n \nP4Pi is a low cost\, open source hardware platform intended for teaching and research purposes. P4Pi enables designing and deploying P4-based network devices using the Raspberry Pi board. By setting a target price tag of less than an academic book (under $100)\, P4Pi aims to enable a large number of academic institutes to provide hands-on experience in networking education. Furthermore\, as P4Pi is based on the popular Raspberry PI platform\, it appeals to other communities such as hobbyists and does not depend on a single-source provider. \nP4Pi is developed as part of the P4 Education Workgroup activities. The team aims to provide both educators and practitioners the knowledge and tools required to use P4Pi in class and at home\, including tutorials\, sample code\, tools and community support. \nThis hackathon aims to bring together members of the networking community for the following goals: (i) introduce P4Pi to networking researchers and educators\, enable them to get started with the platform and practice its use in lab-like environment. (ii) develop more teaching and supporting materials for the P4Pi ecosystem. (iii) enable researchers from all levels of expertise to develop P4Pi-based concepts and early-stage projects\, and to stimulate collaborations between new users. \nCheck out all the details here!
URL:https://p4.org/event/acm-sigcomm-2022/
CATEGORIES:Events
END:VEVENT
END:VCALENDAR