BEGIN:VCALENDAR
VERSION:2.0
PRODID:-//P4 - Language Consortium - ECPv6.15.20//NONSGML v1.0//EN
CALSCALE:GREGORIAN
METHOD:PUBLISH
X-ORIGINAL-URL:https://p4.org
X-WR-CALDESC:Events for P4 - Language Consortium
REFRESH-INTERVAL;VALUE=DURATION:PT1H
X-Robots-Tag:noindex
X-PUBLISHED-TTL:PT1H
BEGIN:VTIMEZONE
TZID:UTC
BEGIN:STANDARD
TZOFFSETFROM:+0000
TZOFFSETTO:+0000
TZNAME:UTC
DTSTART:20180101T000000
END:STANDARD
END:VTIMEZONE
BEGIN:VEVENT
DTSTART;TZID=UTC:20190923T083000
DTEND;TZID=UTC:20190923T180000
DTSTAMP:20260425T213237
CREATED:20250912T215908Z
LAST-MODIFIED:20250915T231139Z
UID:10000089-1569227400-1569261600@p4.org
SUMMARY:2nd P4 Workshop in Europe (EuroP4)
DESCRIPTION:A presentation by the P4 Language Consortium and ONF in conjunction with ANCS 2019\nHeld at Cambridge\, UK on September 23\, 2019\nEuroP4 2019 is the second P4 Language Consortium event in Europe.\nIt aims to bring together P4 and P4->NetFPGA researchers from Europe and from around the world\, and to foster the growth of the P4 Community. \nTopics of an interest include\, but are not limited to: \n\nAll aspects of P4-based network protocol research including design\, specification\, verification\, implementation\, measurement\, testing\, and analysis.\nContributions to network architecture using P4\, e.g.\, specific algorithms and protocols for network virtualization or future Internet architectures.\nNew applications and in-network computing enabled by P4\nP4-based and P4-NetFPGA based programmable data planes\nEnd-host networking with P4\nTools and frameworks for development using P4\nPerformance analysis and measurement of P4-based designs and systems\nContributions to the evolution of the P4 language\n\nVenue\nUniversity of Cambridge\nDepartment of Computer Science and Technology\nThe Computer Laboratory\nWilliam Gates Building\n15 JJ Thomson Avenue\, Cambridge CB3 0FD \nAgenda\n\n\n8:30 – 9:15am\n\nRegistration and Breakfast\n\n\n\n\n\n9:15 – 9:30\n\nWelcome and Introductions\n\n\n\n\n\n9:30 – 10:30\n\nKeynote: Undefined behaviours in P4 progams: find them\, fix them or exploit them. (Slides) Speaker: Professor Costin Raiciu (University Politehnica of Bucharest)\n\n Abstract\n\n\n Biography\n\n\n\n\n\n\n\n10:30 – 11:00\n\nCoffee break\n\n\n\n\n\n11:00 – 12:15\n\nOffloading data plane functions to the multi-tenant Cloud Infrastructure using P4. (Paper) (Slides)\nTomasz Osinski (Orange Labs & Warsaw University of Technology)\, Mateusz Kossakowski (Orange Labs & Warsaw University of Technology)\, Halina Tarasiuk (Warsaw University of Technology)\, Roland Picard (Orange Labs)\nP4DNS: In-Network DNS. (Paper) (Slides)\nJackson Woodruff (University of Cambridge)\, Murali Ramanujam (University of Cambridge)\, Noa Zilberman (University of Cambridge)\nCryptographic Hashing in P4 Data Planes. (Paper) (Slides)\nDominik Scholz (Technical University of Munich)\, Andreas Oeldemann (Technical University of Munich)\, Fabien Geyer (Technical University of Munich)\, Sebastian Gallenmüller (Technical University of Munich)\, Henning Stubbe (Technical University of Munich)\, Thomas Wild (Technical University of Munich)\, Andreas Herkersdorf (Technical University of Munich)\, Georg Carle (Technical University of Munich)\n\n\n\n\n\n12:15 – 13:45\n\nLunch break\n\n\n\n\n\n13:45 – 15:00\n\ndaPIPE – A Data Plane Incremental Programming Environment. (Paper) (Slides)\nMario Baldi (Politecnico di Torino)\nRandom Linear Network Coding on Programmable Switches. (Paper) (Slides)\nDiogo Gonçalves (University of Lisbon)\, Salvatore Signorello (University of Lisbon)\, Fernando M.V. Ramos (University of Lisbon)\, Muriel Medard (MIT)\nTowards Understanding the Performance of P4 Programmable Hardware. (Paper) (Slides)\nHasanin Harkous (Technical University of Munich/ Nokia Bell Labs)\, Michael Jarschel (Nokia Bell Labs)\, Mu He (Technical University of Munich)\, Rastin Pries (Nokia Bell Labs)\, Wolfgang Kellerer (Technical University of Munich)\n\n\n\n\n\n15:00 – 15:15\n\nPosters and Demos introduction and pitch\n\n\n\n\n\n15:15 – 16:15\n\nCoffee break with Posters and Demos\n\n\n\n\n\n16:15 – 17:15 (No Proceedings Track)\n\nTowards Neural Network Inference on Programmable Switches. Jonatan Langlet (Karlstad University)\, Andreas Kassler (Karlstad University)\, Deval Bhamare (Karlstad University)\nIn-Network Traffic Redundancy Elimination over Programmable Data Plane. Hongrok Choi (Korea University)\, Seokwon Jang (Korea University)\, Sangheon Pack (Korea University)\nEstimation of logarithmic and exponential functions entirely in P4-programmable data planes. Damu Ding (FBK CREATE-NET research center)\, Marco Savi (FBK CREATE-NET research center)\, Domenico Siracusa (FBK CREATE-NET research center)\nResource-Efficient Service Function Chaining in Programmable Data Plane. Hochan Lee (Korea University)\, Jaewook Lee (Korea University)\, Haneul Ko (Korea University)\, Sangheon Pack (Korea University)\nHow NRENs can benefit from P4. Mauro Campanella (GARR)\, Pavel Benacek (CESNET)\, Ivana Golub (PSNC)\, Xavier Jeannin (RENATER)\, Damian Parniewicz (PSNC)\, Marco Savi (FBK)\, Frederic Loui (RENATER)\n\n\n\n\n\n17:15 – 17:30\n\nClosing\n\n\n\n\n\n18:00 onwards\n\nSocial Event This event will be held in conjuction with the IEEE ANCS reception.\n\n\n\nAccepted Posters\n\nP4MT: Multi-Tenant Support Prototype for International P4 Testbed. Jim Hao Chen (iCAIR/Northwestern University)\, Buck Chung (National Chiao Tung University)\, Chien-Chao Tseng (National Chiao Tung University)\, Joe Mambretti (iCAIR/Northwestern University)\nSketch-based Entropy Estimation for Network Traffic Analysis using Programmable Data Plane ASICs. Yu-Kuen Lai (Chung-Yuan Christian University)\, Ku-Yeh Shih (Chung-Yuan Christian University)\, Po-Yu Huang (Chung-Yuan Christian University)\, Ho-Ping Lee (Chung-Yuan Christian University)\, Yu-Jau Lin (Chung-Yuan Christian University)\, Te-Lung Liu (Narlabs)\, Jim Chen (Northwestern University)\nGraph-to-P4: A P4 boilerplate code generator for parse graphs. Eder Ollora Zaballa (Technical University of Denmark)\, Zifan Zhou (Technical University of Denmark)\nAsynchronous Extern Functions in Programmable Software Data Planes. Daniel Horpacsi (ELTE Eötvös Loránd University\, Budapest\, Hungary)\, Sandor Laki (ELTE Eötvös Loránd University\, Budapest\, Hungary)\, Peter Voros (ELTE Eötvös Loránd University\, Budapest\, Hungary)\, Mate Tejfel (ELTE Eötvös Loránd University\, Budapest\, Hungary)\, Gergely Pongracz (Ericsson Research)\, Laszlo Molnar (Ericsson Research)\n\nAccepted Demos\n\nP4-NetFPGA-based network slicing solution for 5G MEC architectures. Ruben Ricart-Sanchez (University of the West of Scotland)\, Pedro Malagon (Universidad Politecnica de Madrid)\, Jose M. Alcaraz-Calero (University of the West of Scotland)\, Qi Wang (University of the West of Scotland)\nUsing P4 on Fixed-Pipeline and Programmable Stratum Switches. Brian O’Connor (ONF)\, Yi Tseng (ONF)\, Maximilian Pudelko (ONF)\, Alireza Ghaffarkhah (Google)\, Devjit Gopalpur (Google)\nHow to measure the speed of light with programmable data plane hardware?. Ralf Kundel (TU Darmstadt)\, Fridolin Siegmund (TU Darmstadt)\, Boris Koldehofe (TU Darmstadt)\n\nGeneral Chairs\n\nNoa Zilberman\, University of Cambridge\nRobert Soulé\, Yale University\n\nProgram Chairs\n\nGianni Antichi\, Queen Mary University of London\nFernando Ramos\, University of Lisbon\n\nWeb Chair\n\nSalvatore Signorello\, University of Lisbon\n\nTechnical Program Committee\n\nGordon Brebner\, Xilinx\nPaolo Costa\, Microsoft Research\nJon Crowcroft\, University of Cambridge\nBen Pfaff\, VMware\nGeorgios Nikolaidis\, Barefoot Networks\nMarco Chiesa\, KTH\nGabor Retvari\, University of Budapest\nRoberto Bifulco\, NEC\nRan Ben Basat\, Harvard University\nAndreas Kassler\, Karlstads University\nMario Baldi\, Politecnico di Torino\nChristian Rothenberg\, University of Campinas\nMuhammad Shahbaz\, Stanford University\nAurojit Panda\, New York University\nMarcin Wojicik\, University of Cambridge\n\nSpecial Thanks to our Sponsors:\n\n\n\n\n\n\n\n\n\n\n\n\n\n\n  \n \n 
URL:https://p4.org/event/2nd-p4-workshop-in-europe-europ4/
CATEGORIES:Events
END:VEVENT
END:VCALENDAR