BEGIN:VCALENDAR
VERSION:2.0
PRODID:-//P4 - Language Consortium - ECPv6.15.20//NONSGML v1.0//EN
CALSCALE:GREGORIAN
METHOD:PUBLISH
X-WR-CALNAME:P4 - Language Consortium
X-ORIGINAL-URL:https://p4.org
X-WR-CALDESC:Events for P4 - Language Consortium
REFRESH-INTERVAL;VALUE=DURATION:PT1H
X-Robots-Tag:noindex
X-PUBLISHED-TTL:PT1H
BEGIN:VTIMEZONE
TZID:UTC
BEGIN:STANDARD
TZOFFSETFROM:+0000
TZOFFSETTO:+0000
TZNAME:UTC
DTSTART:20180101T000000
END:STANDARD
END:VTIMEZONE
BEGIN:VEVENT
DTSTART;TZID=UTC:20190720T080000
DTEND;TZID=UTC:20190721T080000
DTSTAMP:20260426T001411
CREATED:20250912T215848Z
LAST-MODIFIED:20250915T231208Z
UID:10000082-1563609600-1563696000@p4.org
SUMMARY:P4 Hackathon at IETF105
DESCRIPTION:P4 Hackathon at IETF 105 in Montreal on July 20-21\, 2019.\nThe Computing in the Network (COIN) IRTF research group will host a P4 Hackathon at IETF 105 in Montreal on July 20 and 21. The goal of the hackathon is to give the COIN community a way to investigate new applications in P4 and develop prototypes of potential new applications. As of now\, a lot of P4 development has focused on data centers\, but we would like the hackathon to address the DC-edge programming spectrum. \nTopics of interest include industrial applications for fault detection\, data filtering in streaming media\, autonomous devices at the edge and distributed networking. Participants will be provided with all the tools necessary to create their application. \nFor more information about COIN\, subscribe to their mailing list or visit their wiki.
URL:https://p4.org/event/p4-hackathon-at-ietf105/
CATEGORIES:Events
END:VEVENT
END:VCALENDAR